BEGIN:VCALENDAR
VERSION:2.0
PRODID:-//hc-horn - ECPv6.15.17//NONSGML v1.0//EN
CALSCALE:GREGORIAN
METHOD:PUBLISH
X-WR-CALNAME:hc-horn
X-ORIGINAL-URL:https://www.hc-horn.de
X-WR-CALDESC:Veranstaltungen für hc-horn
REFRESH-INTERVAL;VALUE=DURATION:PT1H
X-Robots-Tag:noindex
X-PUBLISHED-TTL:PT1H
BEGIN:VTIMEZONE
TZID:Europe/Berlin
BEGIN:DAYLIGHT
TZOFFSETFROM:+0100
TZOFFSETTO:+0200
TZNAME:CEST
DTSTART:20220327T010000
END:DAYLIGHT
BEGIN:STANDARD
TZOFFSETFROM:+0200
TZOFFSETTO:+0100
TZNAME:CET
DTSTART:20221030T010000
END:STANDARD
BEGIN:DAYLIGHT
TZOFFSETFROM:+0100
TZOFFSETTO:+0200
TZNAME:CEST
DTSTART:20230326T010000
END:DAYLIGHT
BEGIN:STANDARD
TZOFFSETFROM:+0200
TZOFFSETTO:+0100
TZNAME:CET
DTSTART:20231029T010000
END:STANDARD
BEGIN:DAYLIGHT
TZOFFSETFROM:+0100
TZOFFSETTO:+0200
TZNAME:CEST
DTSTART:20240331T010000
END:DAYLIGHT
BEGIN:STANDARD
TZOFFSETFROM:+0200
TZOFFSETTO:+0100
TZNAME:CET
DTSTART:20241027T010000
END:STANDARD
END:VTIMEZONE
BEGIN:VEVENT
DTSTART;VALUE=DATE:20230907
DTEND;VALUE=DATE:20230911
DTSTAMP:20260421T152401
CREATED:20230323T192617Z
LAST-MODIFIED:20230323T193428Z
UID:7017-1694044800-1694390399@www.hc-horn.de
SUMMARY:Bogen Deutsche Meisterschaft 2023
DESCRIPTION:Deutsche Meisterschaft WA in Wiesbaden
URL:https://www.hc-horn.de/event/bogen-deutsche-meisterschaft-2023/
LOCATION:Wiesbaden
CATEGORIES:Bogenschießen
END:VEVENT
BEGIN:VEVENT
DTSTART;VALUE=DATE:20230916
DTEND;VALUE=DATE:20230917
DTSTAMP:20260421T152401
CREATED:20230703T004422Z
LAST-MODIFIED:20230703T004422Z
UID:7278-1694822400-1694908799@www.hc-horn.de
SUMMARY:Finaltag Sommerliga 2023
DESCRIPTION:
URL:https://www.hc-horn.de/event/finaltag-sommerliga-2023/
LOCATION:HC Horn e.V.\, Berckstraße 91 B\, Bremen\, Bremen\, 28359\, Deutschland
CATEGORIES:Tennis,Verein
END:VEVENT
END:VCALENDAR